View In:
ArcMap
Google Earth
ArcGIS JavaScript
ArcGIS.com Map
View Footprint In:
Google Earth
Service Description: Digital Orthoimagery Series of Idaho (2011, 1-meter, Natural Color + IR)
Name: imageryBaseMapsEarthCover/2011_1m_idaho
Description: Digital Orthoimagery Series of Idaho (2011, 1-meter, Natural Color + IR)
Extent:
XMin: 2240203.9457
YMin: 1192559.8941
XMax: 2748786.0567
YMax: 1987996.3324
Spatial Reference: 102605
Pixel Size X: 1.00000021825389
Pixel Size Y: 0.999999293847281
Band Count: 4
Pixel Type: U8
Min Pixel Size: 0
Maximum Pixel Size: 0
Copyright Text:
Service Data Type: esriImageServiceDataTypeProcessed
Min Values: 4, 15, 19, 0
Max Values: 255, 251, 238, 250
Mean Values: 102.852758997467, 109.427907076231, 93.9585201214219, 107.581659444689
Standard Deviation Values: 41.8343127378654, 32.1873507460544, 26.0720525065103, 32.6987319797368
Object ID Field: OBJECTID
Fields:
- OBJECTID (Type: esriFieldTypeOID, Alias: OBJECTID)
- Shape (Type: esriFieldTypeGeometry, Alias: Shape)
- Name (Type: esriFieldTypeString, Alias: Name)
- MinPS (Type: esriFieldTypeDouble, Alias: MinPS)
- MaxPS (Type: esriFieldTypeDouble, Alias: MaxPS)
- LowPS (Type: esriFieldTypeDouble, Alias: LowPS)
- HighPS (Type: esriFieldTypeDouble, Alias: HighPS)
- Category (Type: esriFieldTypeInteger, Alias: Category)
- Tag (Type: esriFieldTypeString, Alias: Tag)
- GroupName (Type: esriFieldTypeString, Alias: GroupName)
- ProductName (Type: esriFieldTypeString, Alias: ProductName)
- CenterX (Type: esriFieldTypeDouble, Alias: CenterX)
- CenterY (Type: esriFieldTypeDouble, Alias: CenterY)
- ZOrder (Type: esriFieldTypeInteger, Alias: ZOrder)
- SOrder (Type: esriFieldTypeInteger, Alias: SOrder)
- StereoID (Type: esriFieldTypeString, Alias: StereoID)
- Shape_Length (Type: esriFieldTypeDouble, Alias: Shape_Length)
- Shape_Area (Type: esriFieldTypeDouble, Alias: Shape_Area)
Supported Interfaces:
REST
SOAP
WMS
WCS
Supported Operations:
Export Image
Query
Identify
Download