{ "currentVersion": 10.91, "serviceDescription": "
The flight and images produced under this task order have been supplied to Nez Perce County for use in the development of the geographic information system (GIS) for the county of Nez Perce, Idaho and Lewis Clark Valley area. Digital orthophotos are aerial images corrected for displacement caused by relief in the Earth's surface, camera/sensor lens distortion and tilting of the sensor at the time of image acquisition. Additionally, orthophotos are assigned a uniform scale, which allows an end-user the ability to derive accurate measurements from the imagery. Orthophotos can be used as an accurate record of landscape conditions at the time of the corresponding aerial imagery. As such, the digital orthophotos are used in a variety of applications, such as environmental monitoring, facility engineering/maintenance, city/county planning, property line review, etc. The digital orthophoto can be used alone or as a raster base map for corresponding vector line mapping. These data are horizontally referenced to the North American Datum of 1983 (NAD83) 2011, Idaho: State Plane Idaho West Zone (Idaho portions) and vertically referenced to the North American Vertical Datum of NAVD 1988. Survey Feet have been adjusted to ground for the Idaho portions. Units are in U.S. Foot.<\/span><\/p><\/div><\/div><\/div>",
"name": "imagery/nezpercecountycities_2018",
"description": " The flight and images produced under this task order have been supplied to Nez Perce County for use in the development of the geographic information system (GIS) for the county of Nez Perce, Idaho and Lewis Clark Valley area. Digital orthophotos are aerial images corrected for displacement caused by relief in the Earth's surface, camera/sensor lens distortion and tilting of the sensor at the time of image acquisition. Additionally, orthophotos are assigned a uniform scale, which allows an end-user the ability to derive accurate measurements from the imagery. Orthophotos can be used as an accurate record of landscape conditions at the time of the corresponding aerial imagery. As such, the digital orthophotos are used in a variety of applications, such as environmental monitoring, facility engineering/maintenance, city/county planning, property line review, etc. The digital orthophoto can be used alone or as a raster base map for corresponding vector line mapping. These data are horizontally referenced to the North American Datum of 1983 (NAD83) 2011, Idaho: State Plane Idaho West Zone (Idaho portions) and vertically referenced to the North American Vertical Datum of NAVD 1988. Survey Feet have been adjusted to ground for the Idaho portions. Units are in U.S. Foot.<\/span><\/p><\/div><\/div><\/div>",
"extent": {
"xmin": 2354310.000109911,
"ymin": 1713630.0000209883,
"xmax": 2458440.000109911,
"ymax": 1758820.0000209883,
"spatialReference": {
"wkid": 103034,
"latestWkid": 6453
}
},
"initialExtent": {
"xmin": 2354310.000109911,
"ymin": 1713630.0000209883,
"xmax": 2458440.000109911,
"ymax": 1758820.0000209883,
"spatialReference": {
"wkid": 103034,
"latestWkid": 6453
}
},
"fullExtent": {
"xmin": 2354310.000109911,
"ymin": 1713630.0000209883,
"xmax": 2458440.000109911,
"ymax": 1758820.0000209883,
"spatialReference": {
"wkid": 103034,
"latestWkid": 6453
}
},
"hasMultidimensions": false,
"pixelSizeX": 0.5,
"pixelSizeY": 0.5,
"datasetFormat": "AMD",
"uncompressedSize": 56467616400,
"blockWidth": 2048,
"blockHeight": 256,
"compressionType": "None",
"bandNames": [
"Red",
"Green",
"Blue"
],
"allowCopy": true,
"allowAnalysis": true,
"bandCount": 3,
"pixelType": "U8",
"minPixelSize": 0,
"maxPixelSize": 0,
"copyrightText": "Nez Perce County; Aero-Graphics, Inc.",
"serviceDataType": "esriImageServiceDataTypeProcessed",
"serviceSourceType": "esriImageServiceSourceTypeMosaicDataset",
"minValues": [
15,
22,
23
],
"maxValues": [
228,
230,
235
],
"meanValues": [
73.422511890082,
82.23397334272887,
65.57483412600519
],
"stdvValues": [
22.337339908130094,
18.814924645750448,
15.254355129550492
],
"objectIdField": "OBJECTID",
"fields": [
{
"name": "OBJECTID",
"type": "esriFieldTypeOID",
"alias": "OBJECTID",
"domain": null
},
{
"name": "Shape",
"type": "esriFieldTypeGeometry",
"alias": "Shape",
"domain": null
},
{
"name": "Name",
"type": "esriFieldTypeString",
"alias": "Name",
"domain": null,
"length": 200
},
{
"name": "Category",
"type": "esriFieldTypeInteger",
"alias": "Category",
"domain": {
"type": "codedValue",
"name": "MosaicCatalogItemCategoryDomain",
"description": "Catalog item categories.",
"codedValues": [
{
"name": "Unknown",
"code": 0
},
{
"name": "Primary",
"code": 1
},
{
"name": "Overview",
"code": 2
},
{
"name": "Unprocessed Overview",
"code": 3
},
{
"name": "Partial Overview",
"code": 4
},
{
"name": "Inactive",
"code": 5
},
{
"name": "Uploaded",
"code": 253
},
{
"name": "Incomplete",
"code": 254
},
{
"name": "Custom",
"code": 255
}
],
"mergePolicy": "esriMPTDefaultValue",
"splitPolicy": "esriSPTDefaultValue"
}
},
{
"name": "AcqYearFirst",
"type": "esriFieldTypeSmallInteger",
"alias": "Acquisition Year First",
"domain": null
},
{
"name": "AcqYearLast",
"type": "esriFieldTypeSmallInteger",
"alias": "Acquisition Year Last",
"domain": null
},
{
"name": "Resolution",
"type": "esriFieldTypeSingle",
"alias": "Resolution (cm)",
"domain": null
},
{
"name": "ProDef",
"type": "esriFieldTypeSmallInteger",
"alias": "Product Definition",
"domain": {
"type": "codedValue",
"name": "ImageryProductDefinition",
"description": "Imagery product definition.",
"codedValues": [
{
"name": "Unknown",
"code": 0
},
{
"name": "Natural Color",
"code": 2
},
{
"name": "Natural Color + Infrared",
"code": 3
},
{
"name": "Black & White",
"code": 1
},
{
"name": "Color Infrared",
"code": 4
}
],
"mergePolicy": "esriMPTDefaultValue",
"splitPolicy": "esriSPTDefaultValue"
}
},
{
"name": "DatasetID",
"type": "esriFieldTypeSmallInteger",
"alias": "Collection Name",
"domain": {
"type": "codedValue",
"name": "ImageryDatasetID",
"description": "Imagery collection name.",
"codedValues": [
{
"name": "Island Park Reservoir 2016",
"code": 5
},
{
"name": "Challis National Forest 2010",
"code": 6
},
{
"name": "Idaho 2004",
"code": 0
},
{
"name": "Idaho 2009",
"code": 1
},
{
"name": "Idaho 2011",
"code": 2
},
{
"name": "Idaho 2013",
"code": 3
},
{
"name": "Idaho 2015",
"code": 4
},
{
"name": "Idaho Agricultural Land 2006",
"code": 9
},
{
"name": "Idaho 2017",
"code": 10
},
{
"name": "Southeast Idaho 2003",
"code": 8
},
{
"name": "Boundary County 2009",
"code": 11
},
{
"name": "Idaho Panhandle 2006",
"code": 13
},
{
"name": "Nez Perce County 2007",
"code": 14
},
{
"name": "Raft River Area 1968",
"code": 17
},
{
"name": "Raft River Area 1962",
"code": 18
},
{
"name": "Buhl City Area 1969",
"code": 19
},
{
"name": "Buhl City Area 1964",
"code": 20
},
{
"name": "Culdesac, Lapwai, & Peck Cities 2007",
"code": 15
},
{
"name": "Blackfoot River Area 1964 | 1966",
"code": 16
},
{
"name": "Oakley City Area 1968 | 1969",
"code": 21
},
{
"name": "Oakley City Area 1962 | 1964",
"code": 22
},
{
"name": "Treasure Valley 1938 | 1939",
"code": 23
},
{
"name": "Treasure Valley 1994",
"code": 24
},
{
"name": "Treasure Valley 2000",
"code": 25
},
{
"name": "Payette Valley 1997",
"code": 26
},
{
"name": "Payette Valley 1938 | 1943 | 1949",
"code": 27
},
{
"name": "Big Canyon Creek 2015",
"code": 28
},
{
"name": "Big Canyon Creek Potential Landslide Areas 2015",
"code": 29
},
{
"name": "Pocatello 1959",
"code": 30
},
{
"name": "Pocatello 1963",
"code": 31
},
{
"name": "Pocatello 1968",
"code": 32
},
{
"name": "Pocatello 1975",
"code": 33
},
{
"name": "Pocatello 1984",
"code": 34
},
{
"name": "Pocatello 1994",
"code": 35
},
{
"name": "Moscow 2001",
"code": 36
},
{
"name": "Moscow 2003",
"code": 37
},
{
"name": "Moscow 2006",
"code": 38
},
{
"name": "Moscow 2008",
"code": 39
},
{
"name": "Moscow 2010",
"code": 40
},
{
"name": "Moscow 2012",
"code": 41
},
{
"name": "Moscow 2015",
"code": 42
},
{
"name": "Moscow 2018",
"code": 43
},
{
"name": "State Highway 53 - WA Line to Rathdrum",
"code": 45
},
{
"name": "Nez Perce County 2018",
"code": 46
},
{
"name": "Culdesac, Lapwai, & Peck Cities 2018",
"code": 47
},
{
"name": "Lewis-Clark Valley, ID 2018",
"code": 48
},
{
"name": "Lewis-Clark Valley, WA 2018",
"code": 49
},
{
"name": "Lewis-Clark Valley, ID 2015",
"code": 7
},
{
"name": "Southeast Idaho Highways 2016",
"code": 50
},
{
"name": "Taylor Ranch 2015 (Natural Color)",
"code": 51
},
{
"name": "Taylor Ranch 2015 (Color Infrared)",
"code": 52
},
{
"name": "Experimental Forest 2015 (Natural Color)",
"code": 53
},
{
"name": "Experimental Forest 2015 (Color Infrared)",
"code": 54
},
{
"name": "Rinker Rock Creek Ranch 2015 (Natural Color)",
"code": 55
},
{
"name": "Rinker Rock Creek Ranch 2015 (Color Infrared)",
"code": 56
},
{
"name": "Rinker Rock Creek Ranch 2017 (Natural Color)",
"code": 57
},
{
"name": "Rinker Rock Creek Ranch 2017 (Color Infrared)",
"code": 58
},
{
"name": "Idaho 2019",
"code": 59
},
{
"name": "Kimberly Research and Extension Center - U of I 2017",
"code": 44
},
{
"name": "Idaho 1998-2001",
"code": 62
},
{
"name": "Idaho 2002-2004",
"code": 63
},
{
"name": "Rinker Rock Creek Ranch 2019 (Natural Color)",
"code": 66
},
{
"name": "Rinker Rock Creek Ranch 2019 (Color Infrared)",
"code": 67
},
{
"name": "Taylor Ranch 2019 (Natural Color)",
"code": 68
},
{
"name": "Taylor Ranch 2019 (Color Infrared)",
"code": 69
},
{
"name": "Experimental Forest 2019 (Natural Color)",
"code": 70
},
{
"name": "Experimental Forest 2019 (Color Infrared)",
"code": 71
},
{
"name": "Boise 2013",
"code": 72
},
{
"name": "Boise 2010",
"code": 73
},
{
"name": "Boise Foothills 2010",
"code": 74
},
{
"name": "Boise 2003",
"code": 12
},
{
"name": "Boise Foothills 2006",
"code": 75
},
{
"name": "Boise 2006",
"code": 76
},
{
"name": "Boise 2005",
"code": 77
},
{
"name": "Kootenai County 2009",
"code": 78
},
{
"name": "Lewis-Clark Valley, ID 2020",
"code": 79
},
{
"name": "Teton County 2019",
"code": 80
},
{
"name": "Central Idaho & Caribou NF 1997 | 1998 | 1999 | 2000",
"code": 82
},
{
"name": "Island Park & Central Idaho Mtns. 1997 | 1998 | 1999",
"code": 83
},
{
"name": "Western Idaho 1997 | 1998",
"code": 84
},
{
"name": "ID/UT Border at Bear River Range 1992 | 1997",
"code": 85
},
{
"name": "ID/WA Border (Southern Portion) 1996",
"code": 86
},
{
"name": "ID/MT Border 1992 | 1995",
"code": 87
},
{
"name": "ID/WY/OR/NV Border 1992 | 1994",
"code": 88
},
{
"name": "Portneuf Range; Malad City, ID 1992 | 1993",
"code": 89
},
{
"name": "Western & Southeast Idaho 1992",
"code": 90
},
{
"name": "Hells Canyon & Lemhi Range 1998 | 1999 | 2000 | 2001",
"code": 81
},
{
"name": "McCall Impact Area North 2019",
"code": 91
},
{
"name": "McCall Impact Area South 2019",
"code": 92
},
{
"name": "McCall Impact Area South 2014",
"code": 60
},
{
"name": "McCall Impact Area North 2014",
"code": 61
},
{
"name": "McCall Impact Area North 2009",
"code": 93
},
{
"name": "McCall Impact Area South 2009",
"code": 94
},
{
"name": "Rocky Canyon (Winter) 2014",
"code": 95
},
{
"name": "Rocky Canyon (Summer) 2014",
"code": 96
},
{
"name": "Castle Rocks State Park (June) 2021",
"code": 101
},
{
"name": "Castle Rocks State Park (Sept.) 2021",
"code": 102
},
{
"name": "Soda Fire Natural Area 2019",
"code": 103
},
{
"name": "Soda Fire Natural Area 2020",
"code": 104
},
{
"name": "Soda Fire Natural Area 2021",
"code": 105
},
{
"name": "Duncan Saddle 2021",
"code": 106
},
{
"name": "Magic Reservoir 2014",
"code": 99
},
{
"name": "Magic Reservoir 2013",
"code": 100
},
{
"name": "Cedar Gulch 2014",
"code": 97
},
{
"name": "Cedar Gulch 2015",
"code": 98
},
{
"name": "Idaho 2021",
"code": 107
},
{
"name": "McCall Outdoor Science School 2019 (Natural Color)",
"code": 64
},
{
"name": "McCall Outdoor Science School 2019 (Color Infrared)",
"code": 65
},
{
"name": "Experimental Forest 2021 (Color Infrared)",
"code": 108
},
{
"name": "Experimental Forest 2021 (Natural Color)",
"code": 109
},
{
"name": "McCall Outdoor Science School 2021 (Color Infrared)",
"code": 110
},
{
"name": "McCall Outdoor Science School 2021 (Natural Color)",
"code": 111
},
{
"name": "Rinker Rock Creek Ranch 2021 (Color Infrared)",
"code": 112
},
{
"name": "Rinker Rock Creek Ranch 2021 (Natural Color)",
"code": 113
},
{
"name": "Taylor Ranch 2021 (Color Infrared)",
"code": 114
},
{
"name": "Taylor Ranch 2021 (Natural Color)",
"code": 115
},
{
"name": "Cold Wildfire Near Glenns Ferry 2022",
"code": 116
},
{
"name": "BF3 Wildfire Near Corrals Trailhead Boise 2022",
"code": 117
},
{
"name": "Coyote Butte Wildfire Near Initial Point 2022",
"code": 118
},
{
"name": "North Ham Wildfire Near Hammett 2022",
"code": 119
},
{
"name": "Dry Creek Watershed Near Boise 2022",
"code": 120
},
{
"name": "Pony Complex Wildfire Near Mountain Home 2022",
"code": 121
},
{
"name": "Soda Wildfire Near the OR/ID Border 2022",
"code": 122
},
{
"name": "South Trail Wildfire Near Hammett 2022",
"code": 123
},
{
"name": "Lanes Creek 2023",
"code": 124
},
{
"name": "Idaho 2023",
"code": 125
},
{
"name": "Taylor Ranch 2023 (Color Infrared)",
"code": 126
},
{
"name": "Taylor Ranch 2023 (Natural Color)",
"code": 127
},
{
"name": "McCall Outdoor Science School 2023 (Color Infrared)",
"code": 128
},
{
"name": "McCall Outdoor Science School 2023 (Natural Color)",
"code": 129
},
{
"name": "Rinker Rock Creek Ranch 2023 (Color Infrared)",
"code": 130
},
{
"name": "Rinker Rock Creek Ranch 2023 (Natural Color)",
"code": 131
},
{
"name": "Experimental Forest 2023 (Color Infrared)",
"code": 132
},
{
"name": "Experimental Forest 2023 (Natural Color)",
"code": 133
},
{
"name": "Weiser River Basin 2011",
"code": 135
},
{
"name": "Pahsimeroi RIver 2009",
"code": 136
},
{
"name": "Moscow 2022",
"code": 137
}
],
"mergePolicy": "esriMPTDefaultValue",
"splitPolicy": "esriSPTDefaultValue"
}
},
{
"name": "Rectification",
"type": "esriFieldTypeSmallInteger",
"alias": "Rectification",
"domain": {
"type": "codedValue",
"name": "ImageryRectification",
"description": "Imagery rectification.",
"codedValues": [
{
"name": "Unknown",
"code": 0
},
{
"name": "Orthorectified",
"code": 1
},
{
"name": "Georectified",
"code": 2
}
],
"mergePolicy": "esriMPTDefaultValue",
"splitPolicy": "esriSPTDefaultValue"
}
},
{
"name": "Constraints",
"type": "esriFieldTypeSmallInteger",
"alias": "Constraints",
"domain": {
"type": "codedValue",
"name": "ImageryConstraints",
"description": "Imagery access contraints.",
"codedValues": [
{
"name": "Public",
"code": 1
},
{
"name": "Restricted",
"code": 2
}
],
"mergePolicy": "esriMPTDefaultValue",
"splitPolicy": "esriSPTDefaultValue"
}
},
{
"name": "Source",
"type": "esriFieldTypeSmallInteger",
"alias": "Source",
"domain": {
"type": "codedValue",
"name": "ImagerySource",
"description": "Agency who provided data to the library.",
"codedValues": [
{
"name": "Unknown",
"code": 0
},
{
"name": "U.S. Geological Survey",
"code": 2
},
{
"name": "Idaho Department of Water Resources",
"code": 3
},
{
"name": "Nez Perce County",
"code": 4
},
{
"name": "USDA-FSA-APFO",
"code": 1
},
{
"name": "Idaho EPSCoR Office",
"code": 5
},
{
"name": "Facilities Services - U of I",
"code": 6
},
{
"name": "Kimberly Research and Extension Center - U of I",
"code": 7
},
{
"name": "CIty of Moscow",
"code": 8
},
{
"name": "Idaho Transportation Department",
"code": 9
},
{
"name": "Library - U of I",
"code": 10
},
{
"name": "City of McCall",
"code": 11
},
{
"name": "State of Idaho",
"code": 12
},
{
"name": "Teton County",
"code": 13
},
{
"name": "Idaho Department of Fish and Game",
"code": 14
}
],
"mergePolicy": "esriMPTDefaultValue",
"splitPolicy": "esriSPTDefaultValue"
}
},
{
"name": "AcqDateFirst",
"type": "esriFieldTypeDate",
"alias": "Acquistition Date First",
"domain": null,
"length": 8
},
{
"name": "AcqDateLast",
"type": "esriFieldTypeDate",
"alias": "Acquistition Date Last",
"domain": null,
"length": 8
},
{
"name": "DownloadURL",
"type": "esriFieldTypeString",
"alias": "Download URL",
"domain": null,
"length": 256
}
],
"capabilities": "Catalog,Mensuration,Download,Image,Metadata",
"defaultMosaicMethod": "Northwest",
"allowedMosaicMethods": "NorthWest,Center,LockRaster,ByAttribute,Nadir,Viewpoint,Seamline,None",
"sortField": "",
"sortValue": null,
"sortAscending": true,
"mosaicOperator": "First",
"maxDownloadSizeLimit": 1000000,
"defaultCompressionQuality": 80,
"defaultResamplingMethod": "Bilinear",
"maxImageHeight": 20000,
"maxImageWidth": 25000,
"maxRecordCount": 1000,
"maxDownloadImageCount": 30000,
"maxMosaicImageCount": 20,
"allowRasterFunction": true,
"rasterFunctionInfos": [
{
"name": "None",
"description": "A No-Op Function.",
"help": ""
}
],
"rasterTypeInfos": [
{
"name": "Raster Dataset",
"description": "Supports all ArcGIS Raster Datasets",
"help": ""
}
],
"mensurationCapabilities": "Basic",
"hasHistograms": true,
"hasColormap": false,
"hasRasterAttributeTable": false,
"minScale": 0,
"maxScale": 0,
"exportTilesAllowed": false,
"supportsStatistics": true,
"supportsAdvancedQueries": true,
"editFieldsInfo": null,
"ownershipBasedAccessControlForRasters": null,
"allowComputeTiePoints": false,
"useStandardizedQueries": true,
"advancedQueryCapabilities": {
"useStandardizedQueries": true,
"supportsStatistics": true,
"supportsOrderBy": true,
"supportsDistinct": true,
"supportsPagination": true
},
"spatialReference": {
"wkid": 103034,
"latestWkid": 6453
}
}