<?xml version="1.0" encoding="UTF-8" standalone="no"?>
<metadata xml:lang="en">
<Esri>
<CreaDate>20180423</CreaDate>
<CreaTime>11253300</CreaTime>
<ArcGISFormat>1.0</ArcGISFormat>
<ArcGISstyle>ISO 19139 Metadata Implementation Specification</ArcGISstyle>
<SyncOnce>FALSE</SyncOnce>
<DataProperties>
<itemProps>
<itemName Sync="TRUE">s_raftriverarea_1962</itemName>
<nativeExtBox>
<westBL Sync="TRUE">2543219.000000</westBL>
<eastBL Sync="TRUE">2572808.000000</eastBL>
<southBL Sync="TRUE">1207503.500000</southBL>
<northBL Sync="TRUE">1265869.500000</northBL>
<exTypeCode Sync="TRUE">1</exTypeCode>
</nativeExtBox>
<imsContentType export="False">
</imsContentType>
</itemProps>
<coordRef>
<type Sync="TRUE">Projected</type>
<geogcsn Sync="TRUE">GCS_North_American_1983</geogcsn>
<csUnits Sync="TRUE">Linear Unit: Meter (1.000000)</csUnits>
<projcsn Sync="TRUE">NAD_1983_Idaho_TM</projcsn>
<peXml Sync="TRUE">&lt;ProjectedCoordinateSystem xsi:type='typens:ProjectedCoordinateSystem' xmlns:xsi='http://www.w3.org/2001/XMLSchema-instance' xmlns:xs='http://www.w3.org/2001/XMLSchema' xmlns:typens='http://www.esri.com/schemas/ArcGIS/10.5'&gt;&lt;WKT&gt;PROJCS[&amp;quot;NAD_1983_Idaho_TM&amp;quot;,GEOGCS[&amp;quot;GCS_North_American_1983&amp;quot;,DATUM[&amp;quot;D_North_American_1983&amp;quot;,SPHEROID[&amp;quot;GRS_1980&amp;quot;,6378137.0,298.257222101]],PRIMEM[&amp;quot;Greenwich&amp;quot;,0.0],UNIT[&amp;quot;Degree&amp;quot;,0.0174532925199433]],PROJECTION[&amp;quot;Transverse_Mercator&amp;quot;],PARAMETER[&amp;quot;False_Easting&amp;quot;,2500000.0],PARAMETER[&amp;quot;False_Northing&amp;quot;,1200000.0],PARAMETER[&amp;quot;Central_Meridian&amp;quot;,-114.0],PARAMETER[&amp;quot;Scale_Factor&amp;quot;,0.9996],PARAMETER[&amp;quot;Latitude_Of_Origin&amp;quot;,42.0],UNIT[&amp;quot;Meter&amp;quot;,1.0],AUTHORITY[&amp;quot;Esri&amp;quot;,102605]]&lt;/WKT&gt;&lt;XOrigin&gt;-3120900&lt;/XOrigin&gt;&lt;YOrigin&gt;-13447900&lt;/YOrigin&gt;&lt;XYScale&gt;450445547.3910538&lt;/XYScale&gt;&lt;ZOrigin&gt;-100000&lt;/ZOrigin&gt;&lt;ZScale&gt;10000&lt;/ZScale&gt;&lt;MOrigin&gt;-100000&lt;/MOrigin&gt;&lt;MScale&gt;10000&lt;/MScale&gt;&lt;XYTolerance&gt;0.001&lt;/XYTolerance&gt;&lt;ZTolerance&gt;0.001&lt;/ZTolerance&gt;&lt;MTolerance&gt;0.001&lt;/MTolerance&gt;&lt;HighPrecision&gt;true&lt;/HighPrecision&gt;&lt;WKID&gt;102605&lt;/WKID&gt;&lt;LatestWKID&gt;102605&lt;/LatestWKID&gt;&lt;/ProjectedCoordinateSystem&gt;</peXml>
</coordRef>
<RasterProperties>
<General>
<PixelDepth Sync="TRUE">8</PixelDepth>
<HasColormap Sync="TRUE">FALSE</HasColormap>
<CompressionType Sync="TRUE">None</CompressionType>
<NumBands Sync="TRUE">1</NumBands>
<Format Sync="TRUE">AMD</Format>
<HasPyramids Sync="TRUE">TRUE</HasPyramids>
<SourceType Sync="TRUE">continuous</SourceType>
<PixelType Sync="TRUE">unsigned integer</PixelType>
<NoDataValue Sync="TRUE">
</NoDataValue>
</General>
<Properties>
<MaxImageHeight Sync="TRUE">20000</MaxImageHeight>
<MaxImageWidth Sync="TRUE">25000</MaxImageWidth>
<MaxRecordCount Sync="TRUE">1000</MaxRecordCount>
<MaxDownloadImageCount Sync="TRUE">10000</MaxDownloadImageCount>
<MaxDownloadSizeLimit Sync="TRUE">2048</MaxDownloadSizeLimit>
<MaxMosaicImageCount Sync="TRUE">20</MaxMosaicImageCount>
<DefaultCompressionQuality Sync="TRUE">80</DefaultCompressionQuality>
<DefaultCompressionTolerance Sync="TRUE">0.01</DefaultCompressionTolerance>
<BlendWidth Sync="TRUE">0</BlendWidth>
<ViewpointSpacingX Sync="TRUE">600</ViewpointSpacingX>
<ViewpointSpacingY Sync="TRUE">300</ViewpointSpacingY>
<AllowedItemMetadata Sync="TRUE">BASIC</AllowedItemMetadata>
<DefaultResamplingMethod Sync="TRUE">1</DefaultResamplingMethod>
<AllowedMosaicMethods Sync="TRUE">NorthWest,Center,LockRaster,ByAttribute,Nadir,Viewpoint,Seamline,None</AllowedMosaicMethods>
<AllowedCompressions Sync="TRUE">JPEG,NONE,LZ77,LERC</AllowedCompressions>
<AllowedMensurationCapabilities Sync="TRUE">None</AllowedMensurationCapabilities>
<AvailableMensurationCapabilities Sync="TRUE">None,Basic,Base-Top Height,Top-Top Shadow Height,Base-Top Shadow Height,3D</AvailableMensurationCapabilities>
<ClipToBoundary Sync="TRUE">0</ClipToBoundary>
<FootprintMayContainNoData Sync="TRUE">0</FootprintMayContainNoData>
<CellSizeTolerance Sync="TRUE">0.8</CellSizeTolerance>
<MinimumPixelContribution Sync="TRUE">1</MinimumPixelContribution>
<AvailableMosaicMethods Sync="TRUE">NorthWest,Center,LockRaster,ByAttribute,Nadir,Viewpoint,Seamline,None</AvailableMosaicMethods>
<AvailableCompressionMethods Sync="TRUE">None,JPEG,LZ77,LERC</AvailableCompressionMethods>
<AvailableItemMetadataLevels Sync="TRUE">None,Basic,Full</AvailableItemMetadataLevels>
<BandDefinitionKeyword Sync="TRUE">NONE</BandDefinitionKeyword>
<AllowedFields Sync="TRUE">Name,AcqYearFirst,AcqYearLast,Resolution,ProDef,DatasetID,Rectification,Constraints,Source,AcqDateFirst,AcqDateLastDownloadURL,AcqYearFirst,AcqYearLast,Resolution,ProDef,DatasetID,Rectification,Constraints,Source,AcqDateFirst,AcqDateLast,DownloadURL</AllowedFields>
<LowCellSize Sync="TRUE">3.5</LowCellSize>
<HighCellSize Sync="TRUE">224</HighCellSize>
<MaxCellSize Sync="TRUE">11200</MaxCellSize>
<ClipToFootprint Sync="TRUE">-1</ClipToFootprint>
<ApplyColorCorrection Sync="TRUE">0</ApplyColorCorrection>
<SortAscending Sync="TRUE">-1</SortAscending>
<MosaicOperator Sync="TRUE">1</MosaicOperator>
<UseTime Sync="TRUE">0</UseTime>
<DataType Sync="TRUE">Processed</DataType>
<TimeStamp.RemoveItems Sync="TRUE">43213.8121334259</TimeStamp.RemoveItems>
<TimeStamp.UpdateExtent Sync="TRUE">43213.8160378241</TimeStamp.UpdateExtent>
</Properties>
<Functions Sync="TRUE">
<Function Description="Performs on-the-fly mosaic on a raster catalog." Name="Mosaic Function">
</Function>
</Functions>
</RasterProperties>
</DataProperties>
<SyncDate>20180505</SyncDate>
<SyncTime>13550300</SyncTime>
<ModDate>20180505</ModDate>
<ModTime>13550300</ModTime>
<scaleRange>
<minScale>20000</minScale>
<maxScale>12000</maxScale>
</scaleRange>
<ArcGISProfile>ISO19139</ArcGISProfile>
</Esri>
<mdLang>
<languageCode value="eng">
</languageCode>
<countryCode Sync="TRUE" value="USA">
</countryCode>
</mdLang>
<mdChar>
<CharSetCd value="004">
</CharSetCd>
</mdChar>
<mdHrLv>
<ScopeCd value="005">
</ScopeCd>
</mdHrLv>
<mdStanName>ArcGIS Metadata</mdStanName>
<mdStanVer>1.0</mdStanVer>
<dataIdInfo>
<idCitation>
<date>
<pubDate>2007-03-01</pubDate>
</date>
<citRespParty>
<rpOrgName>Idaho Department of Water Resources</rpOrgName>
<rpCntInfo>
<cntAddress>
<delPoint>Boise, ID USA</delPoint>
</cntAddress>
</rpCntInfo>
<role>
<RoleCd value="010">
</RoleCd>
</role>
</citRespParty>
<citRespParty>
<rpOrgName>Idaho Department of Water Resources</rpOrgName>
<role>
<RoleCd value="006">
</RoleCd>
</role>
</citRespParty>
<presForm>
<PresFormCd value="005">
</PresFormCd>
</presForm>
<presForm>
<fgdcGeoform>raster digital data</fgdcGeoform>
</presForm>
<datasetSeries>
<issId>series</issId>
</datasetSeries>
<resTitle Sync="FALSE">Aerial Imagery near the Raft River, Idaho (1962, 3.5-meters)</resTitle>
</idCitation>
<idAbs>&lt;div style='text-align:Left;'&gt;&lt;div&gt;&lt;div&gt;&lt;p&gt;&lt;span&gt;These data were used by the Idaho Department of Water Resources to support their business needs. The original imagery is from the USDA-Farm Service Agency - 1:20,000-scale black and white film. These data are not orthorectified.&lt;/span&gt;&lt;/p&gt;&lt;/div&gt;&lt;/div&gt;&lt;/div&gt;</idAbs>
<idPurp>This collection contains 1962 3.5-meter black &amp; white georectified images near the Raft River, Idaho. These data are sourced from the Idaho Department of Water...</idPurp>
<idStatus>
<ProgCd value="001">
</ProgCd>
</idStatus>
<resMaint>
<maintFreq>
<MaintFreqCd value="011">
</MaintFreqCd>
</maintFreq>
</resMaint>
<themeKeys>
<keyword>Aerial Photo</keyword>
<keyword>Air Photo</keyword>
<keyword>Imagery</keyword>
</themeKeys>
<searchKeys>
<keyword>air photo</keyword>
<keyword>aerial photography</keyword>
<keyword>aerial photo</keyword>
<keyword>georectified imagery</keyword>
<keyword>black &amp; white</keyword>
</searchKeys>
<dataLang>
<languageCode value="eng">
</languageCode>
<countryCode Sync="TRUE" value="USA">
</countryCode>
</dataLang>
<dataExt>
<exDesc>ground condition</exDesc>
<tempEle>
<TempExtent>
<exTemp>
<TM_Period>
<tmBegin>1962-01-01T00:00:00</tmBegin>
<tmEnd>1962-12-31T00:00:00</tmEnd>
</TM_Period>
</exTemp>
</TempExtent>
</tempEle>
</dataExt>
<envirDesc Sync="FALSE">Esri ArcGIS 10.5.1.7333</envirDesc>
<spatRpType>
<SpatRepTypCd Sync="TRUE" value="002">
</SpatRepTypCd>
</spatRpType>
<dataExt>
<geoEle>
<GeoBndBox esriExtentType="search">
<exTypeCode Sync="TRUE">1</exTypeCode>
<westBL Sync="TRUE">-113.477600</westBL>
<eastBL Sync="TRUE">-113.112625</eastBL>
<northBL Sync="TRUE">42.592023</northBL>
<southBL Sync="TRUE">42.064207</southBL>
</GeoBndBox>
</geoEle>
</dataExt>
<resConst>
<Consts>
<useLimit>&lt;div style='text-align:Left;'&gt;&lt;div&gt;&lt;div&gt;&lt;p&gt;&lt;span&gt;Public data. However, users should be aware that temporal changes may have occurred since these data were collected and that some parts of these data may no longer represent actual surface conditions. Users should not use these data for critical applications without a full awareness of the limitations of these data as described in the lineage or elsewhere.&lt;/span&gt;&lt;/p&gt;&lt;p&gt;&lt;span /&gt;&lt;/p&gt;&lt;/div&gt;&lt;/div&gt;&lt;/div&gt;</useLimit>
</Consts>
</resConst>
<idCredit>Idaho Department of Water Resources; USDA Farm Service Agency</idCredit>
<tpCat>
<TopicCatCd value="010">
</TopicCatCd>
</tpCat>
<idPoC>
<rpIndName>Bruce Godfrey</rpIndName>
<rpOrgName>University of Idaho Library</rpOrgName>
<rpPosName>GIS Librarian</rpPosName>
<role>
<RoleCd value="007">
</RoleCd>
</role>
<rpCntInfo>
<cntAddress addressType="">
<eMailAdd>bgodfrey@uidaho.edu</eMailAdd>
</cntAddress>
<cntPhone>
<voiceNum tddtty="">208.292.1407</voiceNum>
</cntPhone>
</rpCntInfo>
</idPoC>
</dataIdInfo>
<dqInfo>
<dqScope>
<scpLvl>
<ScopeCd value="005">
</ScopeCd>
</scpLvl>
</dqScope>
<report type="DQConcConsis">
<measDesc>No report.</measDesc>
</report>
<report type="DQCompOm">
<measDesc>No report.</measDesc>
</report>
<report type="DQQuanAttAcc">
<measDesc>No report.</measDesc>
</report>
<report dimension="horizontal" type="DQAbsExtPosAcc">
<measDesc>Approximately 13 meters. Data were registrered primarily to the BLM GCBDs mosaiced by township.</measDesc>
</report>
<dataLineage>
<dataSource>
<srcDesc>The Geographic Coordinate Database (GCDB) is a collection of geographic information representing the Public Land Survey System (PLSS) of the United States. Ground control points (GPCs) were taken from BLM GCDBs.</srcDesc>
<srcScale>
<rfDenom>12000</rfDenom>
</srcScale>
<srcCitatn>
<resTitle>BLM Geographic Coordinate Database</resTitle>
<resAltTitle>GCDB</resAltTitle>
<date>
<pubDate date="unknown">
</pubDate>
</date>
<citRespParty>
<rpOrgName>Bureau of Land Management</rpOrgName>
<role>
<RoleCd value="006">
</RoleCd>
</role>
</citRespParty>
<presForm>
<fgdcGeoform>geodatabase</fgdcGeoform>
</presForm>
</srcCitatn>
<srcExt>
<exDesc>publication date</exDesc>
<tempEle>
<TempExtent>
<exTemp>
<TM_Instant>
<tmPosition date="unknown">
</tmPosition>
</TM_Instant>
</exTemp>
</TempExtent>
</tempEle>
</srcExt>
</dataSource>
<dataSource>
<srcDesc>1:20000 9" x 9" black and white aerial photography</srcDesc>
<srcScale>
<rfDenom>20000</rfDenom>
</srcScale>
<srcCitatn>
<resTitle>Aerial Photography of Raft River, Idaho</resTitle>
<resAltTitle>AIRPHOTOS62</resAltTitle>
<date>
<pubDate>1962-01-01</pubDate>
</date>
<citRespParty>
<rpOrgName>Farm Service Administration</rpOrgName>
<role>
<RoleCd value="006">
</RoleCd>
</role>
</citRespParty>
<citRespParty>
<rpOrgName>Aerial Photography Field Office</rpOrgName>
<rpCntInfo>
<cntAddress>
<delPoint>Salt Lake City, UT</delPoint>
</cntAddress>
</rpCntInfo>
<role>
<RoleCd value="010">
</RoleCd>
</role>
</citRespParty>
<presForm>
<PresFormCd value="005">
</PresFormCd>
</presForm>
<presForm>
<fgdcGeoform>remote-sensing image</fgdcGeoform>
</presForm>
</srcCitatn>
<srcExt>
<exDesc>ground condition</exDesc>
<tempEle>
<TempExtent>
<exTemp>
<TM_Instant>
<tmPosition>1962-01-01</tmPosition>
</TM_Instant>
</exTemp>
</TempExtent>
</tempEle>
</srcExt>
</dataSource>
<prcStep>
<stepDesc>1. Scanned and registered hardcopy photos. Scanned at 300 dpi. 2. Registered primarily to GCDB. 3. Mosaicked by township. 4. Output at 3.5 meter pixels</stepDesc>
<stepDateTm>2001-01-01</stepDateTm>
<stepProc>
<rpIndName>Greg Carson</rpIndName>
<rpOrgName>Eagle Mapping Inc.</rpOrgName>
<rpCntInfo>
<cntPhone>
<voiceNum>Unknown -- out of business</voiceNum>
</cntPhone>
<cntAddress addressType="both">
<delPoint>Unknown -- out of business</delPoint>
<city>Boise</city>
<adminArea>ID</adminArea>
<postCode>83701</postCode>
<country>US</country>
</cntAddress>
</rpCntInfo>
<role>
<RoleCd value="009">
</RoleCd>
</role>
</stepProc>
<stepSrc type="used">
<srcCitatn>
<resAltTitle>GCDB</resAltTitle>
</srcCitatn>
</stepSrc>
</prcStep>
<prcStep>
<stepDesc>All source images created by the Idaho Department of Water Resources as a result of the previous Process Step were mosaicked together using an ArcGIS Workstation 9.2 AML. There was no unique value for NODATA cells. But, the value 255 was set to NODATA to eliminate as much NODATA as possible. Cells that truly are 255 are corrected later in the processing. A boundary clip cover, representing the extent of all mosaicked images, was created from a tile index to use as a mask. To create this coverage, interior arcs were deleted and topology was validated until a single polygon remained. NODATA cells within the boundary clip cover needed to be converted back to 255. This needed to be done to insure that all cells inside the boundary had a value. The values were actually converted back to 254 to leave a value for transparency if it was needed in the future. A mask was created from the image mosaic using the ArcGIS tool ISNULL. In the Environment Settings, the Raster Analysis Settings mask was set to the boundary clip cover. The mask was shrunk by one pixel to make sure the boundary was clean and the final image was created. Data were loaded into an SDE database using JPG compression with a quality of 75.</stepDesc>
<stepDateTm>2007-01-01</stepDateTm>
<stepProc>
<rpIndName>Bruce Godfrey</rpIndName>
<rpOrgName>Idaho Geospatial Data Clearinghouse</rpOrgName>
<rpPosName>GIS Specialist</rpPosName>
<rpCntInfo>
<cntPhone>
<voiceNum>208.292.1407</voiceNum>
</cntPhone>
<cntAddress addressType="postal">
<delPoint>Box 442350</delPoint>
<city>Moscow</city>
<adminArea>ID</adminArea>
<postCode>83844-2350</postCode>
<eMailAdd>bgodfrey@uidaho.edu</eMailAdd>
</cntAddress>
</rpCntInfo>
<role>
<RoleCd value="009">
</RoleCd>
</role>
</stepProc>
</prcStep>
</dataLineage>
</dqInfo>
<spatRepInfo>
<Georect>
<axisDimension type="002">
<dimSize Sync="TRUE">8454</dimSize>
<dimResol>
<value Sync="TRUE" uom="m">3.500000</value>
</dimResol>
</axisDimension>
<axisDimension type="001">
<dimSize Sync="TRUE">16676</dimSize>
<dimResol>
<value Sync="TRUE" uom="m">3.500000</value>
</dimResol>
</axisDimension>
<cellGeo>
<CellGeoCd Sync="TRUE" value="002">
</CellGeoCd>
</cellGeo>
<numDims Sync="TRUE">2</numDims>
<tranParaAv Sync="TRUE">1</tranParaAv>
<chkPtAv Sync="TRUE">0</chkPtAv>
<cornerPts>
<pos Sync="TRUE">2543219.000000 1207503.500000</pos>
</cornerPts>
<cornerPts>
<pos Sync="TRUE">2543219.000000 1265869.500000</pos>
</cornerPts>
<cornerPts>
<pos Sync="TRUE">2572808.000000 1265869.500000</pos>
</cornerPts>
<cornerPts>
<pos Sync="TRUE">2572808.000000 1207503.500000</pos>
</cornerPts>
<centerPt>
<pos Sync="TRUE">2558013.500000 1236686.500000</pos>
</centerPt>
<ptInPixel>
<PixOrientCd Sync="TRUE" value="001">
</PixOrientCd>
</ptInPixel>
</Georect>
</spatRepInfo>
<contInfo>
<ImgDesc>
<covDim>
<Band>
<valUnit>
<UOM type="length">
</UOM>
</valUnit>
<dimDescrp Sync="TRUE">Band_1</dimDescrp>
<maxVal Sync="TRUE">255.000000</maxVal>
<minVal Sync="TRUE">4.000000</minVal>
<bitsPerVal Sync="TRUE">8</bitsPerVal>
</Band>
</covDim>
<contentTyp>
<ContentTypCd Sync="TRUE" value="001">
</ContentTypCd>
</contentTyp>
</ImgDesc>
</contInfo>
<refSysInfo>
<RefSystem>
<refSysID>
<identCode Sync="TRUE" code="102605">
</identCode>
<idCodeSpace Sync="TRUE">Esri</idCodeSpace>
<idVersion Sync="TRUE">9.0.0</idVersion>
</refSysID>
</RefSystem>
</refSysInfo>
<mdDateSt Sync="TRUE">20180505</mdDateSt>
<mdContact>
<rpIndName>Bruce Godfrey</rpIndName>
<rpOrgName>University of Idaho Library</rpOrgName>
<rpPosName>GIS Librarian</rpPosName>
<role>
<RoleCd value="007">
</RoleCd>
</role>
<rpCntInfo>
<cntAddress addressType="">
<eMailAdd>bgodfrey@uidaho.edu</eMailAdd>
</cntAddress>
<cntPhone>
<voiceNum tddtty="">208.292.1407</voiceNum>
</cntPhone>
</rpCntInfo>
<editorSave>False</editorSave>
<displayName>Bruce Godfrey</displayName>
</mdContact>
</metadata>
