View In:
ArcGIS JavaScript
ArcGIS Online Map Viewer
ArcGIS Earth
ArcMap
View Footprint In:
ArcGIS Online Map Viewer
Service Description: These data depict geographic features on the surface of the earth. They were created primarily as a visual aid for urban and county planning.
These true color digital orthophotos with a 0.15m ground pixel resolution were collected by Surdex Corporation on March 19, 2010, March 20, 2010, and March 23, 2010. These data meet ASPRS Class 1 specifications.
There are gaps (running horizontally) between several of the source images. They are evident in the southern portion of the mosaic at the western corner as well as a few in the northern half.
Name: imagery/boise_2010
Description: These data depict geographic features on the surface of the earth. They were created primarily as a visual aid for urban and county planning.
These true color digital orthophotos with a 0.15m ground pixel resolution were collected by Surdex Corporation on March 19, 2010, March 20, 2010, and March 23, 2010. These data meet ASPRS Class 1 specifications.
There are gaps (running horizontally) between several of the source images. They are evident in the southern portion of the mosaic at the western corner as well as a few in the northern half.
Single Fused Map Cache: false
Extent:
XMin: 518210.9404220235
YMin: 4792032.329755169
XMax: 575023.1404220115
YMax: 4850758.679755157
Spatial Reference: 26911
(26911)
Initial Extent:
XMin: 518210.9404220235
YMin: 4792032.329755169
XMax: 575023.1404220115
YMax: 4850758.679755157
Spatial Reference: 26911
(26911)
Full Extent:
XMin: 518210.9404220235
YMin: 4792032.329755169
XMax: 575023.1404220115
YMax: 4850758.679755157
Spatial Reference: 26911
(26911)
Pixel Size X: 0.14999999999996838
Pixel Size Y: 0.14999999999996813
Band Count: 3
Pixel Type: U8
RasterFunction Infos: {"rasterFunctionInfos": [{
"name": "None",
"description": "A No-Op Function.",
"help": ""
}]}
Mensuration Capabilities: Basic
Has Histograms: true
Has Colormap: false
Has Multi Dimensions : false
Rendering Rule:
Min Scale: 0
Max Scale: 0
Copyright Text: U.S. Geological Survey; Community Planning Association of Southwest Idaho (COMPASS); Surdex Corporation
Service Data Type: esriImageServiceDataTypeProcessed
Min Values: 4, 19, 24
Max Values: 238, 240, 237
Mean Values: 128.28007898784094, 124.8004357820939, 107.53316046935568
Standard Deviation Values: 20.360363572441454, 18.205034482520382, 17.22209278398114
Object ID Field: OBJECTID
Fields:
-
OBJECTID
(
type: esriFieldTypeOID, alias: OBJECTID
)
-
Shape
(
type: esriFieldTypeGeometry, alias: Shape
)
-
Name
(
type: esriFieldTypeString, alias: Name, length: 200
)
-
Category
(
type: esriFieldTypeInteger, alias: Category
, Coded Values:
[0: Unknown]
, [1: Primary]
, [2: Overview]
, ...6 more...
)
-
AcqYearFirst
(
type: esriFieldTypeSmallInteger, alias: Acquisition Year First
)
-
AcqYearLast
(
type: esriFieldTypeSmallInteger, alias: Acquisition Year Last
)
-
Resolution
(
type: esriFieldTypeSingle, alias: Resolution (cm)
)
-
ProDef
(
type: esriFieldTypeSmallInteger, alias: Product Definition
, Coded Values:
[0: Unknown]
, [2: Natural Color]
, [3: Natural Color + Infrared]
, ...2 more...
)
-
DatasetID
(
type: esriFieldTypeSmallInteger, alias: Collection Name
, Coded Values:
[5: Island Park Reservoir 2016]
, [6: Challis National Forest 2010]
, [0: Idaho 2004]
, ...134 more...
)
-
Rectification
(
type: esriFieldTypeSmallInteger, alias: Rectification
, Coded Values:
[0: Unknown]
, [1: Orthorectified]
, [2: Georectified]
)
-
Constraints
(
type: esriFieldTypeSmallInteger, alias: Constraints
, Coded Values:
[1: Public]
, [2: Restricted]
)
-
Source
(
type: esriFieldTypeSmallInteger, alias: Source
, Coded Values:
[0: Unknown]
, [2: U.S. Geological Survey]
, [3: Idaho Department of Water Resources]
, ...12 more...
)
-
AcqDateFirst
(
type: esriFieldTypeDate, alias: Acquistition Date First, length: 8
)
-
AcqDateLast
(
type: esriFieldTypeDate, alias: Acquistition Date Last, length: 8
)
-
DownloadURL
(
type: esriFieldTypeString, alias: Download URL, length: 256
)
Default Mosaic Method: Northwest
Allowed Mosaic Methods: NorthWest,Center,LockRaster,ByAttribute,Nadir,Viewpoint,Seamline,None
SortField:
SortValue: null
Mosaic Operator: First
Default Compression Quality: 80
Default Resampling Method: Bilinear
Max Record Count: 1000
Max Image Height: 20000
Max Image Width: 25000
Max Download Image Count: 30000
Max Mosaic Image Count: 20
Allow Raster Function: true
Allow Copy: true
Allow Analysis: true
Allow Compute TiePoints: false
Supports Statistics: true
Supports Advanced Queries: true
Use StandardizedQueries: true
Raster Type Infos:
Name: Raster Dataset
Description: Supports all ArcGIS Raster Datasets
Help:
Has Raster Attribute Table: false
Edit Fields Info: null
Ownership Based AccessControl For Rasters: null
Child Resources:
Info
Histograms
Statistics
Key Properties
Legend
Raster Function Infos
Supported Operations:
Export Image
Query
Identify
Download Rasters
Measure
Compute Histograms
Compute Statistics Histograms
Get Samples
Compute Class Statistics
Query Boundary
Compute Pixel Location
Compute Angles
Validate
Project