View In:
ArcGIS JavaScript
ArcGIS Online Map Viewer
ArcGIS Earth
ArcMap
View Footprint In:
ArcGIS Online Map Viewer
Service Description: These data were used by the Idaho Department of Water Resources to support their business needs. The original imagery is from the USDA-Farm Service Agency - 1:20,000-scale black and white film. These data are not orthorectified.
Name: imagery/buhlcityarea_1964
Description: These data were used by the Idaho Department of Water Resources to support their business needs. The original imagery is from the USDA-Farm Service Agency - 1:20,000-scale black and white film. These data are not orthorectified.
Single Fused Map Cache: false
Extent:
XMin: 2416953
YMin: 1215644.5
XMax: 2478395.5
YMax: 1279838
Spatial Reference: 102605
(8826)
Initial Extent:
XMin: 2416953
YMin: 1215644.5
XMax: 2478395.5
YMax: 1279838
Spatial Reference: 102605
(8826)
Full Extent:
XMin: 2416953
YMin: 1215644.5
XMax: 2478395.5
YMax: 1279838
Spatial Reference: 102605
(8826)
Pixel Size X: 3.5
Pixel Size Y: 3.5
Band Count: 3
Pixel Type: U8
RasterFunction Infos: {"rasterFunctionInfos": [{
"name": "None",
"description": "A No-Op Function.",
"help": ""
}]}
Mensuration Capabilities: None
Has Histograms: true
Has Colormap: false
Has Multi Dimensions : false
Rendering Rule:
Min Scale: 0
Max Scale: 0
Copyright Text: Idaho Department of Water Resources; USDA-Farm Service Agency
Service Data Type: esriImageServiceDataTypeProcessed
Min Values: 19, 22, 35
Max Values: 255, 255, 255
Mean Values: 178.40460861917313, 178.6894705364958, 176.47372383465307
Standard Deviation Values: 30.39765995704748, 29.46260693920875, 28.39624456054736
Object ID Field: OBJECTID
Fields:
-
OBJECTID
(
type: esriFieldTypeOID, alias: OBJECTID
)
-
Shape
(
type: esriFieldTypeGeometry, alias: Shape
)
-
Name
(
type: esriFieldTypeString, alias: Name, length: 200
)
-
Category
(
type: esriFieldTypeInteger, alias: Category
,
Coded Values:
[0: Unknown]
,
[1: Primary]
,
[2: Overview]
, ...6 more...
)
-
AcqYearFirst
(
type: esriFieldTypeSmallInteger, alias: Acquisition Year First
)
-
AcqYearLast
(
type: esriFieldTypeSmallInteger, alias: Acquisition Year Last
)
-
Resolution
(
type: esriFieldTypeSingle, alias: Resolution (cm)
)
-
ProDef
(
type: esriFieldTypeSmallInteger, alias: Image Type
,
Coded Values:
[0: Unknown]
,
[2: Natural Color]
,
[3: Natural Color + Infrared]
, ...2 more...
)
-
DatasetID
(
type: esriFieldTypeSmallInteger, alias: Collection Name
,
Coded Values:
[5: Island Park Reservoir 2016]
,
[6: Challis National Forest 2010]
,
[0: Idaho 2004]
, ...114 more...
)
-
Rectification
(
type: esriFieldTypeSmallInteger, alias: Rectification
,
Coded Values:
[0: Unknown]
,
[1: Orthorectified]
,
[2: Georectified]
)
-
Constraints
(
type: esriFieldTypeSmallInteger, alias: Constraints
,
Coded Values:
[1: Public]
,
[2: Restricted]
)
-
Source
(
type: esriFieldTypeSmallInteger, alias: Source
,
Coded Values:
[0: Unknown]
,
[2: U.S. Geological Survey]
,
[3: Idaho Department of Water Resources]
, ...11 more...
)
-
AcqDateFirst
(
type: esriFieldTypeDate, alias: Acquistition Date First, length: 8
)
-
AcqDateLast
(
type: esriFieldTypeDate, alias: Acquistition Date Last, length: 8
)
-
DownloadURL
(
type: esriFieldTypeString, alias: Download URL, length: 256
)
Default Mosaic Method: Northwest
Allowed Mosaic Methods: NorthWest,Center,LockRaster,ByAttribute,Nadir,Viewpoint,Seamline,None
SortField:
SortValue: null
Mosaic Operator: First
Default Compression Quality: 80
Default Resampling Method: Bilinear
Max Record Count: 1000
Max Image Height: 20000
Max Image Width: 25000
Max Download Image Count: 30000
Max Mosaic Image Count: 20
Allow Raster Function: true
Allow Copy: null
Allow Analysis: null
Allow Compute TiePoints: false
Supports Statistics: true
Supports Advanced Queries: true
Use StandardizedQueries: true
Raster Type Infos:
Name: Raster Dataset
Description: Supports all ArcGIS Raster Datasets
Help:
Has Raster Attribute Table: false
Edit Fields Info: null
Ownership Based AccessControl For Rasters: null
Child Resources:
Info
Histograms
Key Properties
Legend
Raster Function Infos
Supported Operations:
Export Image
Query
Identify
Download Rasters
Compute Histograms
Compute Statistics Histograms
Get Samples
Compute Class Statistics
Query Boundary
Compute Pixel Location
Validate
Project