View In:
ArcGIS JavaScript
ArcGIS Online Map Viewer
ArcGIS Earth
ArcMap
View Footprint In:
ArcGIS Online Map Viewer
Service Description: This collections contains 81 2022 7.62-centimeter color digital orthorectified images of the City of Moscow, Idaho. These data were acquired on April 24, 2022. This geospatial dataset was created for the City of Moscow, Idaho as a seamless 3-inch pixel resolution orthorectified aerial imagery covering approximately 21 square miles of the city and environs. A Large-format DMC Digital Camera System equipped with ABGPS/IMU was used to collect the project area on April 24th, with a 60 percent forward / 30 percent side overlap. Native projection is Idaho West State Plane, NAD83(2011), NAVD88 with units in US Survey Feet. The orthophotography content was processed as 32-bit RGBI (4Band).
Name: imagery/moscow_2022
Description: This collections contains 81 2022 7.62-centimeter color digital orthorectified images of the City of Moscow, Idaho. These data were acquired on April 24, 2022. This geospatial dataset was created for the City of Moscow, Idaho as a seamless 3-inch pixel resolution orthorectified aerial imagery covering approximately 21 square miles of the city and environs. A Large-format DMC Digital Camera System equipped with ABGPS/IMU was used to collect the project area on April 24th, with a 60 percent forward / 30 percent side overlap. Native projection is Idaho West State Plane, NAD83(2011), NAVD88 with units in US Survey Feet. The orthophotography content was processed as 32-bit RGBI (4Band).
Single Fused Map Cache: false
Extent:
XMin: 2300904.5
YMin: 1835798
XMax: 2325210.5
YMax: 1860082
Spatial Reference: PROJCS["NAD83_Idaho_West_ftUS",GEOGCS["GCS_North_American_1983",DATUM["D_North_American_1983",SPHEROID["GRS_1980",6378137.0,298.257222101]],PRIMEM["Greenwich",0.0],UNIT["Degree",0.0174532925199433]],PROJECTION["Transverse_Mercator"],PARAMETER["False_Easting",2624666.66666667],PARAMETER["False_Northing",0.0],PARAMETER["Central_Meridian",-115.75],PARAMETER["Scale_Factor",0.99993333],PARAMETER["Latitude_Of_Origin",41.6666666666667],UNIT["Foot_US",0.3048006096012192]]
Initial Extent:
XMin: 2300904.5
YMin: 1835798
XMax: 2325210.5
YMax: 1860082
Spatial Reference: PROJCS["NAD83_Idaho_West_ftUS",GEOGCS["GCS_North_American_1983",DATUM["D_North_American_1983",SPHEROID["GRS_1980",6378137.0,298.257222101]],PRIMEM["Greenwich",0.0],UNIT["Degree",0.0174532925199433]],PROJECTION["Transverse_Mercator"],PARAMETER["False_Easting",2624666.66666667],PARAMETER["False_Northing",0.0],PARAMETER["Central_Meridian",-115.75],PARAMETER["Scale_Factor",0.99993333],PARAMETER["Latitude_Of_Origin",41.6666666666667],UNIT["Foot_US",0.3048006096012192]]
Full Extent:
XMin: 2300904.5
YMin: 1835798
XMax: 2325210.5
YMax: 1860082
Spatial Reference: PROJCS["NAD83_Idaho_West_ftUS",GEOGCS["GCS_North_American_1983",DATUM["D_North_American_1983",SPHEROID["GRS_1980",6378137.0,298.257222101]],PRIMEM["Greenwich",0.0],UNIT["Degree",0.0174532925199433]],PROJECTION["Transverse_Mercator"],PARAMETER["False_Easting",2624666.66666667],PARAMETER["False_Northing",0.0],PARAMETER["Central_Meridian",-115.75],PARAMETER["Scale_Factor",0.99993333],PARAMETER["Latitude_Of_Origin",41.6666666666667],UNIT["Foot_US",0.3048006096012192]]
Pixel Size X: 0.25
Pixel Size Y: 0.25
Band Count: 4
Pixel Type: U8
RasterFunction Infos: {"rasterFunctionInfos": [
{
"name": "None",
"description": "Make a Raster or Raster Dataset into a Function Raster Dataset.",
"help": ""
},
{
"name": "Color Infrared",
"description": "Display color infrared (CIR). A band combination (4,1,2 | near infrared + red + green) useful in seeing changes in plant health.",
"help": ""
}
]}
Mensuration Capabilities: None
Has Histograms: true
Has Colormap: false
Has Multi Dimensions : false
Rendering Rule:
Min Scale: 0
Max Scale: 0
Copyright Text: City of Moscow; Access Geographic, LLC.
Service Data Type: esriImageServiceDataTypeProcessed
Min Values: 6, 9, 8, 10
Max Values: 252, 247, 243, 240
Mean Values: 85.97989265341609, 85.2451633931029, 68.74245742138001, 102.14768272899646
Standard Deviation Values: 21.668525412819896, 18.47605419544603, 18.3173116933884, 16.8256509400485
Object ID Field: OBJECTID
Fields:
-
OBJECTID
(
type: esriFieldTypeOID, alias: OBJECTID
)
-
Shape
(
type: esriFieldTypeGeometry, alias: Shape
)
-
Name
(
type: esriFieldTypeString, alias: Name, length: 200
)
-
Category
(
type: esriFieldTypeInteger, alias: Category
, Coded Values:
[0: Unknown]
, [1: Primary]
, [2: Overview]
, ...6 more...
)
-
AcqYearFirst
(
type: esriFieldTypeSmallInteger, alias: Acquisition Year First
)
-
AcqYearLast
(
type: esriFieldTypeSmallInteger, alias: Acquisition Year Last
)
-
Resolution
(
type: esriFieldTypeSingle, alias: Resolution (cm)
)
-
ProDef
(
type: esriFieldTypeSmallInteger, alias: Product Definition
, Coded Values:
[0: Unknown]
, [2: Natural Color]
, [3: Natural Color + Infrared]
, ...2 more...
)
-
DatasetID
(
type: esriFieldTypeSmallInteger, alias: Collection Name
, Coded Values:
[5: Island Park Reservoir 2016]
, [6: Challis National Forest 2010]
, [0: Idaho 2004]
, ...134 more...
)
-
Rectification
(
type: esriFieldTypeSmallInteger, alias: Rectification
, Coded Values:
[0: Unknown]
, [1: Orthorectified]
, [2: Georectified]
)
-
Constraints
(
type: esriFieldTypeSmallInteger, alias: Constraints
, Coded Values:
[1: Public]
, [2: Restricted]
)
-
Source
(
type: esriFieldTypeSmallInteger, alias: Source
, Coded Values:
[0: Unknown]
, [2: U.S. Geological Survey]
, [3: Idaho Department of Water Resources]
, ...12 more...
)
-
AcqDateFirst
(
type: esriFieldTypeDate, alias: Acquistition Date First, length: 8
)
-
AcqDateLast
(
type: esriFieldTypeDate, alias: Acquistition Date Last, length: 8
)
-
DownloadURL
(
type: esriFieldTypeString, alias: Download URL, length: 256
)
Default Mosaic Method: Northwest
Allowed Mosaic Methods: NorthWest,Center,LockRaster,ByAttribute,Nadir,Viewpoint,Seamline,None
SortField:
SortValue: null
Mosaic Operator: First
Default Compression Quality: 80
Default Resampling Method: Bilinear
Max Record Count: 1000
Max Image Height: 20000
Max Image Width: 25000
Max Download Image Count: 30000
Max Mosaic Image Count: 20
Allow Raster Function: true
Allow Copy: true
Allow Analysis: true
Allow Compute TiePoints: false
Supports Statistics: true
Supports Advanced Queries: true
Use StandardizedQueries: true
Raster Type Infos:
Name: Raster Dataset
Description: Supports all ArcGIS Raster Datasets
Help:
Has Raster Attribute Table: false
Edit Fields Info: null
Ownership Based AccessControl For Rasters: null
Child Resources:
Info
Histograms
Statistics
Key Properties
Legend
Raster Function Infos
Supported Operations:
Export Image
Query
Identify
Download Rasters
Compute Histograms
Compute Statistics Histograms
Get Samples
Compute Class Statistics
Query Boundary
Compute Pixel Location
Compute Angles
Validate
Project