View In:
ArcGIS JavaScript
ArcGIS Online Map Viewer
ArcGIS Earth
ArcMap
View Footprint In:
ArcGIS Online Map Viewer
Service Description: On December 12th, 2011, 3DI West (GeoTerra Mapping Group) collected and then processed orthoimagery for the Weiser River Basin Survey area.The dataset lies within the Weiser River Basin, Washington County, Idaho. Each true-color image has a 0.3m resolution. Watershed Sciences, Inc. contracted 3DI WEST to collect the true-color imagery for the Idaho Department of Water Resources.
See the Project Report (https://www.northwestknowledge.net/data/f87676a9-2a17-46cb-b70a-bd62b68eed4a/Weiser_Basin_Orthophoto_report.pdf) for additional information.
Individual image tiles can be downloaded using the Idaho Aerial Imagery Explorer.
These data can be bulk downloaded from a web accessible folder.
Users should be aware that temporal changes may have occurred since these data were collected and that some parts of these data may no longer represent actual surface conditions. Users should not use these data for critical applications without a full awareness of the limitations of these data as described in the lineage or elsewhere.
Name: imagery/weiser_2011
Description: On December 12th, 2011, 3DI West (GeoTerra Mapping Group) collected and then processed orthoimagery for the Weiser River Basin Survey area.The dataset lies within the Weiser River Basin, Washington County, Idaho. Each true-color image has a 0.3m resolution. Watershed Sciences, Inc. contracted 3DI WEST to collect the true-color imagery for the Idaho Department of Water Resources.
See the Project Report (https://www.northwestknowledge.net/data/f87676a9-2a17-46cb-b70a-bd62b68eed4a/Weiser_Basin_Orthophoto_report.pdf) for additional information.
Individual image tiles can be downloaded using the Idaho Aerial Imagery Explorer.
These data can be bulk downloaded from a web accessible folder.
Users should be aware that temporal changes may have occurred since these data were collected and that some parts of these data may no longer represent actual surface conditions. Users should not use these data for critical applications without a full awareness of the limitations of these data as described in the lineage or elsewhere.
Single Fused Map Cache: false
Extent:
XMin: 507000
YMin: 4894500
XMax: 526500
YMax: 4927500
Spatial Reference: 26911
(26911)
Initial Extent:
XMin: 507000
YMin: 4894500
XMax: 526500
YMax: 4927500
Spatial Reference: 26911
(26911)
Full Extent:
XMin: 507000
YMin: 4894500
XMax: 526500
YMax: 4927500
Spatial Reference: 26911
(26911)
Pixel Size X: 0.3
Pixel Size Y: 0.3
Band Count: 3
Pixel Type: U8
RasterFunction Infos: {"rasterFunctionInfos": [{
"name": "None",
"description": "Make a Raster or Raster Dataset into a Function Raster Dataset.",
"help": ""
}]}
Mensuration Capabilities: None
Has Histograms: true
Has Colormap: false
Has Multi Dimensions : false
Rendering Rule:
Min Scale: 0
Max Scale: 0
Copyright Text:
Service Data Type: esriImageServiceDataTypeProcessed
Min Values: 5, 16, 11
Max Values: 231, 231, 231
Mean Values: 103.34889556848661, 100.97851016975353, 85.7158102906945
Standard Deviation Values: 22.17859957180704, 16.70195313807925, 12.961726648096112
Object ID Field: OBJECTID
Fields:
-
OBJECTID
(
type: esriFieldTypeOID, alias: OBJECTID
)
-
Shape
(
type: esriFieldTypeGeometry, alias: Shape
)
-
Name
(
type: esriFieldTypeString, alias: Name, length: 200
)
-
Category
(
type: esriFieldTypeInteger, alias: Category
, Coded Values:
[0: Unknown]
, [1: Primary]
, [2: Overview]
, ...6 more...
)
-
AcqYearFirst
(
type: esriFieldTypeSmallInteger, alias: Acquisition Year First
)
-
AcqYearLast
(
type: esriFieldTypeSmallInteger, alias: Acquisition Year Last
)
-
Resolution
(
type: esriFieldTypeSingle, alias: Resolution (cm)
)
-
ProDef
(
type: esriFieldTypeSmallInteger, alias: Product Definition
, Coded Values:
[0: Unknown]
, [2: Natural Color]
, [3: Natural Color + Infrared]
, ...2 more...
)
-
DatasetID
(
type: esriFieldTypeSmallInteger, alias: Collection Name
, Coded Values:
[5: Island Park Reservoir 2016]
, [6: Challis National Forest 2010]
, [0: Idaho 2004]
, ...133 more...
)
-
Rectification
(
type: esriFieldTypeSmallInteger, alias: Rectification
, Coded Values:
[0: Unknown]
, [1: Orthorectified]
, [2: Georectified]
)
-
Constraints
(
type: esriFieldTypeSmallInteger, alias: Constraints
, Coded Values:
[1: Public]
, [2: Restricted]
)
-
Source
(
type: esriFieldTypeSmallInteger, alias: Source
, Coded Values:
[0: Unknown]
, [2: U.S. Geological Survey]
, [3: Idaho Department of Water Resources]
, ...12 more...
)
-
AcqDateFirst
(
type: esriFieldTypeDate, alias: Acquistition Date First, length: 8
)
-
AcqDateLast
(
type: esriFieldTypeDate, alias: Acquistition Date Last, length: 8
)
-
DownloadURL
(
type: esriFieldTypeString, alias: Download URL, length: 256
)
Default Mosaic Method: Northwest
Allowed Mosaic Methods: NorthWest,Center,LockRaster,ByAttribute,Nadir,Viewpoint,Seamline,None
SortField:
SortValue: null
Mosaic Operator: First
Default Compression Quality: 80
Default Resampling Method: Bilinear
Max Record Count: 1000
Max Image Height: 20000
Max Image Width: 25000
Max Download Image Count: 30000
Max Mosaic Image Count: 20
Allow Raster Function: true
Allow Copy: true
Allow Analysis: true
Allow Compute TiePoints: false
Supports Statistics: true
Supports Advanced Queries: true
Use StandardizedQueries: true
Raster Type Infos:
Name: Raster Dataset
Description: Supports all ArcGIS Raster Datasets
Help:
Has Raster Attribute Table: false
Edit Fields Info: null
Ownership Based AccessControl For Rasters: null
Child Resources:
Info
Histograms
Statistics
Key Properties
Legend
Raster Function Infos
Supported Operations:
Export Image
Query
Identify
Download Rasters
Compute Histograms
Compute Statistics Histograms
Get Samples
Compute Class Statistics
Query Boundary
Compute Pixel Location
Compute Angles
Validate
Project